BEGIN:VCALENDAR
VERSION:2.0
PRODID:-//Westview High School - ECPv6.15.17.1//NONSGML v1.0//EN
CALSCALE:GREGORIAN
METHOD:PUBLISH
X-WR-CALNAME:Westview High School
X-ORIGINAL-URL:https://westview.tuhsd.org
X-WR-CALDESC:Events for Westview High School
REFRESH-INTERVAL;VALUE=DURATION:PT1H
X-Robots-Tag:noindex
X-PUBLISHED-TTL:PT1H
BEGIN:VTIMEZONE
TZID:America/Phoenix
BEGIN:STANDARD
TZOFFSETFROM:-0700
TZOFFSETTO:-0700
TZNAME:MST
DTSTART:20230101T000000
END:STANDARD
END:VTIMEZONE
BEGIN:VEVENT
DTSTART;TZID=America/Phoenix:20241029T180000
DTEND;TZID=America/Phoenix:20241029T203000
DTSTAMP:20260423T091536
CREATED:20241025T182621Z
LAST-MODIFIED:20241025T182637Z
UID:10000330-1730224800-1730233800@westview.tuhsd.org
SUMMARY:Haunted House
DESCRIPTION:
URL:https://westview.tuhsd.org/calendar-event/haunted-house
END:VEVENT
END:VCALENDAR