BEGIN:VCALENDAR
VERSION:2.0
PRODID:-//Westview High School - ECPv6.15.17.1//NONSGML v1.0//EN
CALSCALE:GREGORIAN
METHOD:PUBLISH
X-WR-CALNAME:Westview High School
X-ORIGINAL-URL:https://westview.tuhsd.org
X-WR-CALDESC:Events for Westview High School
REFRESH-INTERVAL;VALUE=DURATION:PT1H
X-Robots-Tag:noindex
X-PUBLISHED-TTL:PT1H
BEGIN:VTIMEZONE
TZID:America/Phoenix
BEGIN:STANDARD
TZOFFSETFROM:-0700
TZOFFSETTO:-0700
TZNAME:MST
DTSTART:20240101T000000
END:STANDARD
END:VTIMEZONE
BEGIN:VEVENT
DTSTART;VALUE=DATE:20250325
DTEND;VALUE=DATE:20250326
DTSTAMP:20260419T070214
CREATED:20250201T060023Z
LAST-MODIFIED:20250201T060023Z
UID:10000390-1742860800-1742947199@westview.tuhsd.org
SUMMARY:ACT Testing for Juniors
DESCRIPTION:
URL:https://westview.tuhsd.org/calendar-event/act-testing-for-juniors
END:VEVENT
BEGIN:VEVENT
DTSTART;TZID=America/Phoenix:20250325T153000
DTEND;TZID=America/Phoenix:20250325T153000
DTSTAMP:20260419T070214
CREATED:20250303T171341Z
LAST-MODIFIED:20250303T171341Z
UID:10000414-1742916600-1742916600@westview.tuhsd.org
SUMMARY:Girls Tennis vs. Central
DESCRIPTION:
URL:https://westview.tuhsd.org/calendar-event/girls-tennis-vs-central
END:VEVENT
BEGIN:VEVENT
DTSTART;TZID=America/Phoenix:20250325T154500
DTEND;TZID=America/Phoenix:20250325T154500
DTSTAMP:20260419T070214
CREATED:20250303T171216Z
LAST-MODIFIED:20250303T171216Z
UID:10000413-1742917500-1742917500@westview.tuhsd.org
SUMMARY:Baseball vs. Deer Valley
DESCRIPTION:
URL:https://westview.tuhsd.org/calendar-event/baseball-vs-deer-valley
END:VEVENT
END:VCALENDAR