BEGIN:VCALENDAR
VERSION:2.0
PRODID:-//Westview High School - ECPv6.15.17.1//NONSGML v1.0//EN
CALSCALE:GREGORIAN
METHOD:PUBLISH
X-ORIGINAL-URL:https://westview.tuhsd.org
X-WR-CALDESC:Events for Westview High School
REFRESH-INTERVAL;VALUE=DURATION:PT1H
X-Robots-Tag:noindex
X-PUBLISHED-TTL:PT1H
BEGIN:VTIMEZONE
TZID:America/Phoenix
BEGIN:STANDARD
TZOFFSETFROM:-0700
TZOFFSETTO:-0700
TZNAME:MST
DTSTART:20240101T000000
END:STANDARD
END:VTIMEZONE
BEGIN:VEVENT
DTSTART;TZID=America/Phoenix:20250417T153000
DTEND;TZID=America/Phoenix:20250417T153000
DTSTAMP:20260421T024337
CREATED:20250303T180902Z
LAST-MODIFIED:20250303T180902Z
UID:10000426-1744903800-1744903800@westview.tuhsd.org
SUMMARY:Boys Tennis vs. Peoria
DESCRIPTION:
URL:https://westview.tuhsd.org/calendar-event/boys-tennis-vs-peoria
END:VEVENT
BEGIN:VEVENT
DTSTART;TZID=America/Phoenix:20250417T154500
DTEND;TZID=America/Phoenix:20250417T154500
DTSTAMP:20260421T024337
CREATED:20250405T165228Z
LAST-MODIFIED:20250405T165228Z
UID:10000689-1744904700-1744904700@westview.tuhsd.org
SUMMARY:Softball vs. Cactus
DESCRIPTION:
URL:https://westview.tuhsd.org/calendar-event/softball-vs-cactus
END:VEVENT
BEGIN:VEVENT
DTSTART;TZID=America/Phoenix:20250417T180000
DTEND;TZID=America/Phoenix:20250417T180000
DTSTAMP:20260421T024337
CREATED:20250412T163811Z
LAST-MODIFIED:20250412T163811Z
UID:10000692-1744912800-1744912800@westview.tuhsd.org
SUMMARY:Advanced Theatre One Act Play (A Trip to the Moon)
DESCRIPTION:
URL:https://westview.tuhsd.org/calendar-event/advanced-theatre-one-act-play-a-trip-to-the-moon
END:VEVENT
END:VCALENDAR