BEGIN:VCALENDAR
VERSION:2.0
PRODID:-//Westview High School - ECPv6.15.17.1//NONSGML v1.0//EN
CALSCALE:GREGORIAN
METHOD:PUBLISH
X-WR-CALNAME:Westview High School
X-ORIGINAL-URL:https://westview.tuhsd.org
X-WR-CALDESC:Events for Westview High School
REFRESH-INTERVAL;VALUE=DURATION:PT1H
X-Robots-Tag:noindex
X-PUBLISHED-TTL:PT1H
BEGIN:VTIMEZONE
TZID:America/Phoenix
BEGIN:STANDARD
TZOFFSETFROM:-0700
TZOFFSETTO:-0700
TZNAME:MST
DTSTART:20240101T000000
END:STANDARD
END:VTIMEZONE
BEGIN:VEVENT
DTSTART;TZID=America/Phoenix:20251030T160000
DTEND;TZID=America/Phoenix:20251030T180000
DTSTAMP:20260421T024420
CREATED:20251007T101746Z
LAST-MODIFIED:20251007T101746Z
UID:10000802-1761840000-1761847200@westview.tuhsd.org
SUMMARY:A Knight of Spooky Fun
DESCRIPTION:
URL:https://westview.tuhsd.org/calendar-event/a-knight-of-spooky-fun
LOCATION:Baseball Field Parking Lot\, 10850 W Garden Lakes Pkwy\, Avondale\, AZ
END:VEVENT
BEGIN:VEVENT
DTSTART;TZID=America/Phoenix:20251030T190000
DTEND;TZID=America/Phoenix:20251030T190000
DTSTAMP:20260421T024420
CREATED:20250920T200944Z
LAST-MODIFIED:20250920T200944Z
UID:10000735-1761850800-1761850800@westview.tuhsd.org
SUMMARY:Varsity Football vs. Sierra Linda
DESCRIPTION:
URL:https://westview.tuhsd.org/calendar-event/varsity-football-vs-sierra-linda
LOCATION:Westview High School
END:VEVENT
END:VCALENDAR