BEGIN:VCALENDAR
VERSION:2.0
PRODID:-//Westview High School - ECPv6.15.17.1//NONSGML v1.0//EN
CALSCALE:GREGORIAN
METHOD:PUBLISH
X-WR-CALNAME:Westview High School
X-ORIGINAL-URL:https://westview.tuhsd.org
X-WR-CALDESC:Events for Westview High School
REFRESH-INTERVAL;VALUE=DURATION:PT1H
X-Robots-Tag:noindex
X-PUBLISHED-TTL:PT1H
BEGIN:VTIMEZONE
TZID:America/Phoenix
BEGIN:STANDARD
TZOFFSETFROM:-0700
TZOFFSETTO:-0700
TZNAME:MST
DTSTART:20240101T000000
END:STANDARD
END:VTIMEZONE
BEGIN:VEVENT
DTSTART;TZID=America/Phoenix:20251104T180000
DTEND;TZID=America/Phoenix:20251104T180000
DTSTAMP:20260424T124244
CREATED:20250921T160734Z
LAST-MODIFIED:20250921T160734Z
UID:10000801-1762279200-1762279200@westview.tuhsd.org
SUMMARY:Girls Flag Football vs. St. Mary's
DESCRIPTION:
URL:https://westview.tuhsd.org/calendar-event/girls-flag-football-vs-st-marys
END:VEVENT
END:VCALENDAR