BEGIN:VCALENDAR
VERSION:2.0
PRODID:-//Westview High School - ECPv6.15.17.1//NONSGML v1.0//EN
CALSCALE:GREGORIAN
METHOD:PUBLISH
X-ORIGINAL-URL:https://westview.tuhsd.org
X-WR-CALDESC:Events for Westview High School
REFRESH-INTERVAL;VALUE=DURATION:PT1H
X-Robots-Tag:noindex
X-PUBLISHED-TTL:PT1H
BEGIN:VTIMEZONE
TZID:America/Phoenix
BEGIN:STANDARD
TZOFFSETFROM:-0700
TZOFFSETTO:-0700
TZNAME:MST
DTSTART:20240101T000000
END:STANDARD
END:VTIMEZONE
BEGIN:VEVENT
DTSTART;TZID=America/Phoenix:20251107T083000
DTEND;TZID=America/Phoenix:20251107T083000
DTSTAMP:20260420T124915
CREATED:20251018T012704Z
LAST-MODIFIED:20251018T012704Z
UID:10000807-1762504200-1762504200@westview.tuhsd.org
SUMMARY:First Friday Coffee Talk
DESCRIPTION:
URL:https://westview.tuhsd.org/calendar-event/first-friday-coffee-talk-2
LOCATION:Media Center
END:VEVENT
END:VCALENDAR