BEGIN:VCALENDAR
VERSION:2.0
PRODID:-//Westview High School - ECPv6.15.17.1//NONSGML v1.0//EN
CALSCALE:GREGORIAN
METHOD:PUBLISH
X-WR-CALNAME:Westview High School
X-ORIGINAL-URL:https://westview.tuhsd.org
X-WR-CALDESC:Events for Westview High School
REFRESH-INTERVAL;VALUE=DURATION:PT1H
X-Robots-Tag:noindex
X-PUBLISHED-TTL:PT1H
BEGIN:VTIMEZONE
TZID:America/Phoenix
BEGIN:STANDARD
TZOFFSETFROM:-0700
TZOFFSETTO:-0700
TZNAME:MST
DTSTART:20250101T000000
END:STANDARD
END:VTIMEZONE
BEGIN:VEVENT
DTSTART;TZID=America/Phoenix:20260303T153000
DTEND;TZID=America/Phoenix:20260303T153000
DTSTAMP:20260419T113029
CREATED:20260228T195530Z
LAST-MODIFIED:20260228T195530Z
UID:10000883-1772551800-1772551800@westview.tuhsd.org
SUMMARY:Boys Tennis vs. Greenway
DESCRIPTION:
URL:https://westview.tuhsd.org/calendar-event/boys-tennis-vs-greenway
END:VEVENT
BEGIN:VEVENT
DTSTART;TZID=America/Phoenix:20260303T153000
DTEND;TZID=America/Phoenix:20260303T153000
DTSTAMP:20260419T113029
CREATED:20260228T200821Z
LAST-MODIFIED:20260228T200821Z
UID:10000897-1772551800-1772551800@westview.tuhsd.org
SUMMARY:Girls Tennis @ Greenway
DESCRIPTION:
URL:https://westview.tuhsd.org/calendar-event/girls-tennis-greenway
END:VEVENT
BEGIN:VEVENT
DTSTART;TZID=America/Phoenix:20260303T154500
DTEND;TZID=America/Phoenix:20260303T154500
DTSTAMP:20260419T113029
CREATED:20260227T150235Z
LAST-MODIFIED:20260227T150235Z
UID:10000835-1772552700-1772552700@westview.tuhsd.org
SUMMARY:Varsity Baseball @ Sierra Linda
DESCRIPTION:
URL:https://westview.tuhsd.org/calendar-event/varsity-baseball-sierra-linda
END:VEVENT
BEGIN:VEVENT
DTSTART;TZID=America/Phoenix:20260303T154500
DTEND;TZID=America/Phoenix:20260303T154500
DTSTAMP:20260419T113029
CREATED:20260228T192143Z
LAST-MODIFIED:20260228T192143Z
UID:10000854-1772552700-1772552700@westview.tuhsd.org
SUMMARY:Junior Varsity Baseball vs. Sierra Linda
DESCRIPTION:
URL:https://westview.tuhsd.org/calendar-event/junior-varsity-baseball-vs-sierra-linda
END:VEVENT
BEGIN:VEVENT
DTSTART;TZID=America/Phoenix:20260303T154500
DTEND;TZID=America/Phoenix:20260303T154500
DTSTAMP:20260419T113029
CREATED:20260228T202205Z
LAST-MODIFIED:20260228T202205Z
UID:10000911-1772552700-1772552700@westview.tuhsd.org
SUMMARY:Varsity Softball vs. Sierra Linda
DESCRIPTION:
URL:https://westview.tuhsd.org/calendar-event/varsity-softball-vs-sierra-linda
END:VEVENT
BEGIN:VEVENT
DTSTART;TZID=America/Phoenix:20260303T154500
DTEND;TZID=America/Phoenix:20260303T154500
DTSTAMP:20260419T113029
CREATED:20260228T204041Z
LAST-MODIFIED:20260228T204041Z
UID:10000929-1772552700-1772552700@westview.tuhsd.org
SUMMARY:Junior Varsity Softball @ Sierra Linda
DESCRIPTION:
URL:https://westview.tuhsd.org/calendar-event/junior-varsity-softball-sierra-linda
END:VEVENT
END:VCALENDAR