BEGIN:VCALENDAR
VERSION:2.0
PRODID:-//Westview High School - ECPv6.15.17.1//NONSGML v1.0//EN
CALSCALE:GREGORIAN
METHOD:PUBLISH
X-WR-CALNAME:Westview High School
X-ORIGINAL-URL:https://westview.tuhsd.org
X-WR-CALDESC:Events for Westview High School
REFRESH-INTERVAL;VALUE=DURATION:PT1H
X-Robots-Tag:noindex
X-PUBLISHED-TTL:PT1H
BEGIN:VTIMEZONE
TZID:America/Phoenix
BEGIN:STANDARD
TZOFFSETFROM:-0700
TZOFFSETTO:-0700
TZNAME:MST
DTSTART:20250101T000000
END:STANDARD
END:VTIMEZONE
BEGIN:VEVENT
DTSTART;VALUE=DATE:20260306
DTEND;VALUE=DATE:20260307
DTSTAMP:20260424T043315
CREATED:20240612T205941Z
LAST-MODIFIED:20240612T205941Z
UID:10000202-1772755200-1772841599@westview.tuhsd.org
SUMMARY:End of 3rd Quarter
DESCRIPTION:
URL:https://westview.tuhsd.org/calendar-event/end-of-3rd-quarter-2
END:VEVENT
BEGIN:VEVENT
DTSTART;TZID=America/Phoenix:20260306T154500
DTEND;TZID=America/Phoenix:20260306T154500
DTSTAMP:20260424T043315
CREATED:20260228T190322Z
LAST-MODIFIED:20260228T190322Z
UID:10000837-1772811900-1772811900@westview.tuhsd.org
SUMMARY:Varsity Baseball @ Crismon
DESCRIPTION:
URL:https://westview.tuhsd.org/calendar-event/varsity-baseball-crismon
END:VEVENT
BEGIN:VEVENT
DTSTART;TZID=America/Phoenix:20260306T154500
DTEND;TZID=America/Phoenix:20260306T154500
DTSTAMP:20260424T043315
CREATED:20260228T192345Z
LAST-MODIFIED:20260228T192345Z
UID:10000856-1772811900-1772811900@westview.tuhsd.org
SUMMARY:Junior Varsity Baseball vs. Crismon
DESCRIPTION:
URL:https://westview.tuhsd.org/calendar-event/junior-varsity-baseball-vs-crismon
END:VEVENT
BEGIN:VEVENT
DTSTART;TZID=America/Phoenix:20260306T154500
DTEND;TZID=America/Phoenix:20260306T154500
DTSTAMP:20260424T043315
CREATED:20260228T204132Z
LAST-MODIFIED:20260228T204132Z
UID:10000930-1772811900-1772811900@westview.tuhsd.org
SUMMARY:Junior Varsity Softball vs. Crismon
DESCRIPTION:
URL:https://westview.tuhsd.org/calendar-event/junior-varsity-softball-vs-crismon
END:VEVENT
END:VCALENDAR