BEGIN:VCALENDAR
VERSION:2.0
PRODID:-//Westview High School - ECPv6.15.17.1//NONSGML v1.0//EN
CALSCALE:GREGORIAN
METHOD:PUBLISH
X-ORIGINAL-URL:https://westview.tuhsd.org
X-WR-CALDESC:Events for Westview High School
REFRESH-INTERVAL;VALUE=DURATION:PT1H
X-Robots-Tag:noindex
X-PUBLISHED-TTL:PT1H
BEGIN:VTIMEZONE
TZID:America/Phoenix
BEGIN:STANDARD
TZOFFSETFROM:-0700
TZOFFSETTO:-0700
TZNAME:MST
DTSTART:20250101T000000
END:STANDARD
END:VTIMEZONE
BEGIN:VEVENT
DTSTART;VALUE=DATE:20260330
DTEND;VALUE=DATE:20260403
DTSTAMP:20260423T094238
CREATED:20260327T225031Z
LAST-MODIFIED:20260327T225031Z
UID:10000952-1774828800-1775174399@westview.tuhsd.org
SUMMARY:Knightfest Spirit Week
DESCRIPTION:
URL:https://westview.tuhsd.org/calendar-event/knightfest-spirit-week
END:VEVENT
BEGIN:VEVENT
DTSTART;VALUE=DATE:20260401
DTEND;VALUE=DATE:20260402
DTSTAMP:20260423T094238
CREATED:20240612T205943Z
LAST-MODIFIED:20240612T205943Z
UID:10000206-1775001600-1775087999@westview.tuhsd.org
SUMMARY:Early Release
DESCRIPTION:
URL:https://westview.tuhsd.org/calendar-event/early-release-68
END:VEVENT
BEGIN:VEVENT
DTSTART;TZID=America/Phoenix:20260401T153000
DTEND;TZID=America/Phoenix:20260401T153000
DTSTAMP:20260423T094238
CREATED:20260228T200003Z
LAST-MODIFIED:20260228T200003Z
UID:10000888-1775057400-1775057400@westview.tuhsd.org
SUMMARY:Boys Tennis @ Barry Goldwater
DESCRIPTION:
URL:https://westview.tuhsd.org/calendar-event/boys-tennis-barry-goldwater
END:VEVENT
BEGIN:VEVENT
DTSTART;TZID=America/Phoenix:20260401T153000
DTEND;TZID=America/Phoenix:20260401T153000
DTSTAMP:20260423T094238
CREATED:20260228T201230Z
LAST-MODIFIED:20260228T201230Z
UID:10000902-1775057400-1775057400@westview.tuhsd.org
SUMMARY:Girls Tennis vs. Barry Goldwater
DESCRIPTION:
URL:https://westview.tuhsd.org/calendar-event/girls-tennis-vs-barry-goldwater
END:VEVENT
BEGIN:VEVENT
DTSTART;TZID=America/Phoenix:20260401T154500
DTEND;TZID=America/Phoenix:20260401T154500
DTSTAMP:20260423T094238
CREATED:20260228T203005Z
LAST-MODIFIED:20260228T203005Z
UID:10000919-1775058300-1775058300@westview.tuhsd.org
SUMMARY:Varsity Softball vs. Agua Fria
DESCRIPTION:
URL:https://westview.tuhsd.org/calendar-event/varsity-softball-vs-agua-fria
END:VEVENT
BEGIN:VEVENT
DTSTART;TZID=America/Phoenix:20260401T160000
DTEND;TZID=America/Phoenix:20260401T160000
DTSTAMP:20260423T094238
CREATED:20260228T190743Z
LAST-MODIFIED:20260228T190743Z
UID:10000841-1775059200-1775059200@westview.tuhsd.org
SUMMARY:Varsity Baseball @ Agua Fria
DESCRIPTION:
URL:https://westview.tuhsd.org/calendar-event/varsity-baseball-agua-fria
END:VEVENT
END:VCALENDAR