BEGIN:VCALENDAR
VERSION:2.0
PRODID:-//Westview High School - ECPv6.15.17.1//NONSGML v1.0//EN
CALSCALE:GREGORIAN
METHOD:PUBLISH
X-WR-CALNAME:Westview High School
X-ORIGINAL-URL:https://westview.tuhsd.org
X-WR-CALDESC:Events for Westview High School
REFRESH-INTERVAL;VALUE=DURATION:PT1H
X-Robots-Tag:noindex
X-PUBLISHED-TTL:PT1H
BEGIN:VTIMEZONE
TZID:America/Phoenix
BEGIN:STANDARD
TZOFFSETFROM:-0700
TZOFFSETTO:-0700
TZNAME:MST
DTSTART:20250101T000000
END:STANDARD
END:VTIMEZONE
BEGIN:VEVENT
DTSTART;TZID=America/Phoenix:20260414T153000
DTEND;TZID=America/Phoenix:20260414T153000
DTSTAMP:20260419T173857
CREATED:20260228T200236Z
LAST-MODIFIED:20260228T200236Z
UID:10000891-1776180600-1776180600@westview.tuhsd.org
SUMMARY:Boys Tennis vs. Sierra Linda
DESCRIPTION:
URL:https://westview.tuhsd.org/calendar-event/boys-tennis-vs-sierra-linda
END:VEVENT
BEGIN:VEVENT
DTSTART;TZID=America/Phoenix:20260414T153000
DTEND;TZID=America/Phoenix:20260414T153000
DTSTAMP:20260419T173857
CREATED:20260228T201501Z
LAST-MODIFIED:20260228T201501Z
UID:10000905-1776180600-1776180600@westview.tuhsd.org
SUMMARY:Girls Tennis @ Sierra Linda
DESCRIPTION:
URL:https://westview.tuhsd.org/calendar-event/girls-tennis-sierra-linda
END:VEVENT
BEGIN:VEVENT
DTSTART;TZID=America/Phoenix:20260414T154500
DTEND;TZID=America/Phoenix:20260414T154500
DTSTAMP:20260419T173857
CREATED:20260228T191455Z
LAST-MODIFIED:20260228T191455Z
UID:10000847-1776181500-1776181500@westview.tuhsd.org
SUMMARY:Varsity Baseball @ Cactus
DESCRIPTION:
URL:https://westview.tuhsd.org/calendar-event/varsity-baseball-cactus
END:VEVENT
BEGIN:VEVENT
DTSTART;TZID=America/Phoenix:20260414T154500
DTEND;TZID=America/Phoenix:20260414T154500
DTSTAMP:20260419T173857
CREATED:20260228T193301Z
LAST-MODIFIED:20260228T193437Z
UID:10000864-1776181500-1776181500@westview.tuhsd.org
SUMMARY:Junior Varsity Baseball vs. Cactus
DESCRIPTION:
URL:https://westview.tuhsd.org/calendar-event/junior-varsity-baseball-cactus
END:VEVENT
BEGIN:VEVENT
DTSTART;TZID=America/Phoenix:20260414T154500
DTEND;TZID=America/Phoenix:20260414T154500
DTSTAMP:20260419T173857
CREATED:20260228T203244Z
LAST-MODIFIED:20260228T203503Z
UID:10000922-1776181500-1776181500@westview.tuhsd.org
SUMMARY:Varsity Softball vs. Cactus
DESCRIPTION:
URL:https://westview.tuhsd.org/calendar-event/varsity-softball-cactus
END:VEVENT
BEGIN:VEVENT
DTSTART;TZID=America/Phoenix:20260414T154500
DTEND;TZID=America/Phoenix:20260414T154500
DTSTAMP:20260419T173857
CREATED:20260228T205037Z
LAST-MODIFIED:20260228T205037Z
UID:10000940-1776181500-1776181500@westview.tuhsd.org
SUMMARY:Junior Varsity Softball @ Cactus
DESCRIPTION:
URL:https://westview.tuhsd.org/calendar-event/junior-varsity-softball-cactus
END:VEVENT
END:VCALENDAR