BEGIN:VCALENDAR
VERSION:2.0
PRODID:-//Westview High School - ECPv6.15.17.1//NONSGML v1.0//EN
CALSCALE:GREGORIAN
METHOD:PUBLISH
X-WR-CALNAME:Westview High School
X-ORIGINAL-URL:https://westview.tuhsd.org
X-WR-CALDESC:Events for Westview High School
REFRESH-INTERVAL;VALUE=DURATION:PT1H
X-Robots-Tag:noindex
X-PUBLISHED-TTL:PT1H
BEGIN:VTIMEZONE
TZID:America/Phoenix
BEGIN:STANDARD
TZOFFSETFROM:-0700
TZOFFSETTO:-0700
TZNAME:MST
DTSTART:20250101T000000
END:STANDARD
END:VTIMEZONE
BEGIN:VEVENT
DTSTART;TZID=America/Phoenix:20260420T153000
DTEND;TZID=America/Phoenix:20260420T153000
DTSTAMP:20260420T104725
CREATED:20260228T200521Z
LAST-MODIFIED:20260228T200521Z
UID:10000894-1776699000-1776699000@westview.tuhsd.org
SUMMARY:Boys Tennis vs. Cortez
DESCRIPTION:
URL:https://westview.tuhsd.org/calendar-event/boys-tennis-vs-cortez
END:VEVENT
BEGIN:VEVENT
DTSTART;TZID=America/Phoenix:20260420T153000
DTEND;TZID=America/Phoenix:20260420T153000
DTSTAMP:20260420T104725
CREATED:20260228T201733Z
LAST-MODIFIED:20260228T201733Z
UID:10000908-1776699000-1776699000@westview.tuhsd.org
SUMMARY:Girls Tennis @ Cortez
DESCRIPTION:
URL:https://westview.tuhsd.org/calendar-event/girls-tennis-cortez
END:VEVENT
BEGIN:VEVENT
DTSTART;TZID=America/Phoenix:20260420T154500
DTEND;TZID=America/Phoenix:20260420T154500
DTSTAMP:20260420T104725
CREATED:20260228T191643Z
LAST-MODIFIED:20260228T191643Z
UID:10000849-1776699900-1776699900@westview.tuhsd.org
SUMMARY:Varsity Baseball vs. Peoria
DESCRIPTION:
URL:https://westview.tuhsd.org/calendar-event/varsity-baseball-vs-peoria
END:VEVENT
BEGIN:VEVENT
DTSTART;TZID=America/Phoenix:20260420T154500
DTEND;TZID=America/Phoenix:20260420T154500
DTSTAMP:20260420T104725
CREATED:20260228T193705Z
LAST-MODIFIED:20260228T193705Z
UID:10000866-1776699900-1776699900@westview.tuhsd.org
SUMMARY:Junior Varsity Baseball @ Peoria
DESCRIPTION:
URL:https://westview.tuhsd.org/calendar-event/junior-varsity-baseball-peoria
END:VEVENT
BEGIN:VEVENT
DTSTART;TZID=America/Phoenix:20260420T154500
DTEND;TZID=America/Phoenix:20260420T154500
DTSTAMP:20260420T104725
CREATED:20260228T203652Z
LAST-MODIFIED:20260228T203652Z
UID:10000925-1776699900-1776699900@westview.tuhsd.org
SUMMARY:Varsity Softball @ Peoria
DESCRIPTION:
URL:https://westview.tuhsd.org/calendar-event/varsity-softball-peoria
END:VEVENT
BEGIN:VEVENT
DTSTART;TZID=America/Phoenix:20260420T154500
DTEND;TZID=America/Phoenix:20260420T154500
DTSTAMP:20260420T104725
CREATED:20260228T205315Z
LAST-MODIFIED:20260228T205315Z
UID:10000943-1776699900-1776699900@westview.tuhsd.org
SUMMARY:Junior Varsity Softball vs. Peoria
DESCRIPTION:
URL:https://westview.tuhsd.org/calendar-event/junior-varsity-softball-vs-peoria
END:VEVENT
END:VCALENDAR