BEGIN:VCALENDAR
VERSION:2.0
PRODID:-//Westview High School - ECPv6.15.17.1//NONSGML v1.0//EN
CALSCALE:GREGORIAN
METHOD:PUBLISH
X-WR-CALNAME:Westview High School
X-ORIGINAL-URL:https://westview.tuhsd.org
X-WR-CALDESC:Events for Westview High School
REFRESH-INTERVAL;VALUE=DURATION:PT1H
X-Robots-Tag:noindex
X-PUBLISHED-TTL:PT1H
BEGIN:VTIMEZONE
TZID:America/Phoenix
BEGIN:STANDARD
TZOFFSETFROM:-0700
TZOFFSETTO:-0700
TZNAME:MST
DTSTART:20250101T000000
END:STANDARD
END:VTIMEZONE
BEGIN:VEVENT
DTSTART;VALUE=DATE:20260422
DTEND;VALUE=DATE:20260423
DTSTAMP:20260422T091937
CREATED:20240612T205957Z
LAST-MODIFIED:20240612T205957Z
UID:10000210-1776816000-1776902399@westview.tuhsd.org
SUMMARY:Early Release
DESCRIPTION:
URL:https://westview.tuhsd.org/calendar-event/early-release-71
END:VEVENT
BEGIN:VEVENT
DTSTART;TZID=America/Phoenix:20260422T154500
DTEND;TZID=America/Phoenix:20260422T154500
DTSTAMP:20260422T091937
CREATED:20260228T191738Z
LAST-MODIFIED:20260228T191738Z
UID:10000850-1776872700-1776872700@westview.tuhsd.org
SUMMARY:Varsity Baseball @ Peoria
DESCRIPTION:
URL:https://westview.tuhsd.org/calendar-event/varsity-baseball-peoria
END:VEVENT
BEGIN:VEVENT
DTSTART;TZID=America/Phoenix:20260422T154500
DTEND;TZID=America/Phoenix:20260422T154500
DTSTAMP:20260422T091937
CREATED:20260228T193809Z
LAST-MODIFIED:20260228T193809Z
UID:10000867-1776872700-1776872700@westview.tuhsd.org
SUMMARY:Junior Varsity Baseball vs. Peoria
DESCRIPTION:
URL:https://westview.tuhsd.org/calendar-event/junior-varsity-baseball-vs-peoria
END:VEVENT
BEGIN:VEVENT
DTSTART;TZID=America/Phoenix:20260422T154500
DTEND;TZID=America/Phoenix:20260422T154500
DTSTAMP:20260422T091937
CREATED:20260228T203742Z
LAST-MODIFIED:20260228T203742Z
UID:10000926-1776872700-1776872700@westview.tuhsd.org
SUMMARY:Varsity Softball vs. Peoria
DESCRIPTION:
URL:https://westview.tuhsd.org/calendar-event/varsity-softball-vs-peoria
END:VEVENT
BEGIN:VEVENT
DTSTART;TZID=America/Phoenix:20260422T154500
DTEND;TZID=America/Phoenix:20260422T154500
DTSTAMP:20260422T091937
CREATED:20260228T205405Z
LAST-MODIFIED:20260228T205405Z
UID:10000944-1776872700-1776872700@westview.tuhsd.org
SUMMARY:Junior Varsity Softball @ Peoria
DESCRIPTION:
URL:https://westview.tuhsd.org/calendar-event/junior-varsity-softball-peoria
END:VEVENT
BEGIN:VEVENT
DTSTART;TZID=America/Phoenix:20260423T153000
DTEND;TZID=America/Phoenix:20260423T153000
DTSTAMP:20260422T091937
CREATED:20260228T194806Z
LAST-MODIFIED:20260228T194806Z
UID:10000876-1776958200-1776958200@westview.tuhsd.org
SUMMARY:Boys & Girls Track @ Last Chance
DESCRIPTION:
URL:https://westview.tuhsd.org/calendar-event/boys-girls-track-last-chance
END:VEVENT
BEGIN:VEVENT
DTSTART;TZID=America/Phoenix:20260424T154500
DTEND;TZID=America/Phoenix:20260424T154500
DTSTAMP:20260422T091937
CREATED:20260228T191833Z
LAST-MODIFIED:20260228T191833Z
UID:10000851-1777045500-1777045500@westview.tuhsd.org
SUMMARY:Varsity Baseball vs. Mohave
DESCRIPTION:
URL:https://westview.tuhsd.org/calendar-event/varsity-baseball-vs-mohave
END:VEVENT
BEGIN:VEVENT
DTSTART;TZID=America/Phoenix:20260424T154500
DTEND;TZID=America/Phoenix:20260424T154500
DTSTAMP:20260422T091937
CREATED:20260228T193903Z
LAST-MODIFIED:20260228T193903Z
UID:10000868-1777045500-1777045500@westview.tuhsd.org
SUMMARY:Junior Varsity Baseball vs. Peoria
DESCRIPTION:
URL:https://westview.tuhsd.org/calendar-event/junior-varsity-baseball-vs-peoria-2
END:VEVENT
BEGIN:VEVENT
DTSTART;TZID=America/Phoenix:20260427T154500
DTEND;TZID=America/Phoenix:20260427T154500
DTSTAMP:20260422T091937
CREATED:20260228T191937Z
LAST-MODIFIED:20260228T191937Z
UID:10000852-1777304700-1777304700@westview.tuhsd.org
SUMMARY:Varsity Baseball @ Raymond Kellis
DESCRIPTION:
URL:https://westview.tuhsd.org/calendar-event/varsity-baseball-raymond-kellis
END:VEVENT
BEGIN:VEVENT
DTSTART;TZID=America/Phoenix:20260427T154500
DTEND;TZID=America/Phoenix:20260427T154500
DTSTAMP:20260422T091937
CREATED:20260228T203834Z
LAST-MODIFIED:20260228T203834Z
UID:10000927-1777304700-1777304700@westview.tuhsd.org
SUMMARY:Varsity Softball vs. Raymond Kellis
DESCRIPTION:
URL:https://westview.tuhsd.org/calendar-event/varsity-softball-vs-raymond-kellis
END:VEVENT
BEGIN:VEVENT
DTSTART;TZID=America/Phoenix:20260427T154500
DTEND;TZID=America/Phoenix:20260427T154500
DTSTAMP:20260422T091937
CREATED:20260228T205504Z
LAST-MODIFIED:20260228T205504Z
UID:10000945-1777304700-1777304700@westview.tuhsd.org
SUMMARY:Junior Varsity Softball @ Raymond Kellis
DESCRIPTION:
URL:https://westview.tuhsd.org/calendar-event/junior-varsity-softball-raymond-kellis
END:VEVENT
BEGIN:VEVENT
DTSTART;TZID=America/Phoenix:20260428T160000
DTEND;TZID=America/Phoenix:20260428T160000
DTSTAMP:20260422T091937
CREATED:20260228T194907Z
LAST-MODIFIED:20260228T194907Z
UID:10000877-1777392000-1777392000@westview.tuhsd.org
SUMMARY:Boys & Girls Track @ EFHS Last Chance
DESCRIPTION:
URL:https://westview.tuhsd.org/calendar-event/boys-girls-track-efhs-last-chance
END:VEVENT
BEGIN:VEVENT
DTSTART;VALUE=DATE:20260429
DTEND;VALUE=DATE:20260430
DTSTAMP:20260422T091937
CREATED:20240612T205957Z
LAST-MODIFIED:20240612T205957Z
UID:10000211-1777420800-1777507199@westview.tuhsd.org
SUMMARY:Early Release
DESCRIPTION:
URL:https://westview.tuhsd.org/calendar-event/early-release-72
END:VEVENT
END:VCALENDAR